Workbook
Name A: #REF!
Name A_NA: [1]Calculs!$AO$29:$AO$31
Name actualratelevel: '[2]Final Score and Rating'!$AD$24
Name acutehospital: [3]Détails!#REF!
Name agricole: #REF!
Name Agriculture: #REF!
Name AGRICULTURE_ET_PECHE: #REF!
Name Alt: [4]Interface!$C$8
Name animaux: #REF!
Name animaux_ferme: #REF!
Name Année: #REF!
Name Approche_retenue: [5]Utilitaires!$B$567:$B$569
Name areanewbuild: [3]Détails!#REF!
Name arearefurb: [3]Détails!#REF!
Name ASS: #REF!
Name assessor: '[2]Assessment Details'!$D$12
Name assessorg: '[2]Assessment Details'!$D$13
Name audrey: [6]Evaluation!#REF!
Name autres_achats: #REF!
Name avion: #REF!
Name avion_fret: #REF!
Name avion_passagers: #REF!
Name B: [1]Calculs!$BA$29:$BA$30
Name B_P: #REF!
Name B_P_TP: [1]Calculs!$AR$29:$AR$32
Name B_P2: '[7]Cible 2 Co'!$AA$9:$AB$9
Name B_TP: [1]Calculs!$AU$29:$AU$31
Name bassins: #REF!
Name bateau_passagers: #REF!
Name batiments: #REF!
Name BC: [6]Evaluation!#REF!
Name BI: [6]Evaluation!#REF!
Name biocombustibles: #REF!
Name biologique: #REF!
Name boissons: #REF!
Name building: '[2]Assessment Details'!$D$18
Name bus: #REF!
Name bus_domW: #REF!
Name cargos: #REF!
Name chimie: #REF!
Name Choix_Incertitudes: [5]Utilitaires!$N$567:$N$572
Name Cibles: #REF!
Name clearall: [3]Détails!$C$135,[3]Détails!#REF!,[3]Détails!#REF!,[3]Détails!$J$10:$J$121,[3]Détails!#REF!,[3]Détails!#REF!,[3]Détails!#REF!,[3]Détails!#REF!,[3]Détails!#REF!
Name combustibles: #REF!
Name comments: [3]Détails!#REF!,[3]Détails!#REF!,[3]Détails!#REF!,[3]Détails!#REF!,[3]Détails!#REF!,[3]Détails!#REF!,[3]Détails!#REF!,[3]Détails!#REF!,[3]Détails!#REF!,[3]Détails!#REF!,[3]Détails!#REF!
Name commoncriteria: [3]Détails!#REF!
Name communitymentalhealth: [3]Détails!#REF!
Name COURTS: [3]Détails!#REF!
Name COURTSclmynrange: [3]Détails!#REF!
Name courtscriteria: [3]Détails!#REF!
Name COURTSlifts: [3]Détails!#REF!
Name COURTSplanting: [3]Détails!#REF!
Name culture_vers: #REF!
Name cultures: #REF!
Name CV_diesel: #REF!
Name CV_essence: #REF!
Name cycles: #REF!
Name Date: #REF!
Name date_debut: #REF!
Name Date_fin: #REF!

Sheet ID bâtiment 
A2: Infos BBCA Exploitation
A4: Champs obligatoire* | B4: Nom / identifiant bâtiment
B6: Date de complétude du fichier
B8: Nature du porteur de la labellisation
B10: Ville
B12: Zone climatique*
B14: Si logement préciser mode chauffage (collectif ou individuel)
B16: Surface de plancher | E16: m²
B18: Surface utile* | E18: m²
B20: Si concerné, nombre de logements
B22: Année de construction / Dernière rénovation majeure*
B24: Facteur d'émission Réseau de chaleur si concerné* | E24: kgCO2e/kWhEF
B26: Facteur d'émission Réseau de froid si concerné* | E26: kgCO2e/kWhEF
B28: % surface vacante
B30: % surface exploitée
B32: Capacité* | E32: ETP
B34: Surface de RIE si concerné* | E34: surface en m²
B36: Surface de salle informatique si concerné* | E36: surface en m²
B38: Vecteur énergétique majoritaire pour le chauffage*

Sheet Calculs Bureaux
A2: Calculs des émissions BBCA Exploitation - Bureaux
A6: Exploitation suivie
A8: Energie / Fluides Frigorigènes
A10: Vecteur énergétique | B10: Consommation (kWhEF) | C10: FE (kgCO2eq/kWh) | D10: Garantie d'origine (GO) ? | E10: Impact (kgCO2eq/m²) | F10: Commentaires | J10: Total Impact Energie avant correction | L10: Majoration seuil Ic E+F - RIE | N10: Seuil Ic E+F max (kgCO2eq/m²)
C11: =IF(A11="",0,VLOOKUP(A11,'Données Bureaux'!$B$7:$C$19,2,0)) -> 0 | E11: =B11*C11/'ID bâtiment '!$D$18 -> #DIV/0! | J11: =SUM(E11:E20) -> #DIV/0! | L11: ='Données Bureaux'!F13*'ID bâtiment '!D34/'ID bâtiment '!D18 -> #DIV/0! | N11: =IF('ID bâtiment '!D38="Autre vecteur",HLOOKUP('ID bâtiment '!D12,'Données Bureaux'!I7:P11,2,0)+L11+L13,HLOOKUP('ID bâtiment '!D12,'Données Bureaux'!I7:P11,4,0)+L11+L13) -> #N/A
C12: =IF(A12="",0,VLOOKUP(A12,'Données Bureaux'!$B$7:$C$19,2,0)) -> 0 | E12: =B12*C12/'ID bâtiment '!$D$18 -> #DIV/0! | J12: Part des consommations couvertes par GO | L12: Majoration seuil Ic E+F - Informatique
C13: =IF(A13="",0,VLOOKUP(A13,'Données Bureaux'!$B$7:$C$19,2,0)) -> 0 | E13: =B13*C13/'ID bâtiment '!$D$18 -> #DIV/0! | J13: =IF(SUM(B11:B20)=0,0,SUMIF(D11:D20,"oui",B11:B20)/SUM(B11:B20)) -> 0 | L13: ='Données Bureaux'!F16*'ID bâtiment '!D36/'ID bâtiment '!D18 -> #DIV/0!
C14: =IF(A14="",0,VLOOKUP(A14,'Données Bureaux'!$B$7:$C$19,2,0)) -> 0 | E14: =B14*C14/'ID bâtiment '!$D$18 -> #DIV/0! | J14: Réduction forfaitaire GO
C15: =IF(A15="",0,VLOOKUP(A15,'Données Bureaux'!$B$7:$C$19,2,0)) -> 0 | E15: =B15*C15/'ID bâtiment '!$D$18 -> #DIV/0! | J15: =IF(J13>=0.8,0.2,IF(J13>=0.5,0.1,0)) -> 0 | N15: Ic E+F (kgCO2eq/m²)
C16: =IF(A16="",0,VLOOKUP(A16,'Données Bureaux'!$B$7:$C$19,2,0)) -> 0 | E16: =B16*C16/'ID bâtiment '!$D$18 -> #DIV/0! | L16: Merci de renseigner les données suivantes dans l'onglet Modulation d'usage pour chacune des typologie existantes : - Surface - Amplitude horaire annuelle (h ouvrées/an) - Surface par poste de travail (m2/poste) - Taux d'occupation nominal (%) | N16: =J18+J28 -> #DIV/0!
C17: =IF(A17="",0,VLOOKUP(A17,'Données Bureaux'!$B$7:$C$19,2,0)) -> 0 | E17: =B17*C17/'ID bâtiment '!$D$18 -> #DIV/0! | J17: Ic Energie (kgCO2eq/m²)
C18: =IF(A18="",0,VLOOKUP(A18,'Données Bureaux'!$B$7:$C$19,2,0)) -> 0 | E18: =B18*C18/'ID bâtiment '!$D$18 -> #DIV/0! | J18: =J11*(1-J15) -> #DIV/0!
C19: =IF(A19="",0,VLOOKUP(A19,'Données Bureaux'!$B$7:$C$19,2,0)) -> 0 | E19: =B19*C19/'ID bâtiment '!$D$18 -> #DIV/0! | N19: Ecart à la valeur seuil (kgCO2eq/m²) | O19: POINT BBCA associé
C20: =IF(A20="",0,VLOOKUP(A20,'Données Bureaux'!$B$7:$C$19,2,0)) -> 0 | E20: =B20*C20/'ID bâtiment '!$D$18 -> #DIV/0! | N20: =N11-N16 -> #N/A | O20: =MIN(20,ROUNDDOWN(-MIN((N16-N11)/0.2,0),0)) -> #DIV/0!
N22: Pourcentage de réduction pour atteindre le seuil
A23: Fluide frigorigène | B23: Quantité de recharge (kg) | C23: FE (kgCO2eq/kg) | D23: Impact (kgCO2eq) | E23: Impact (kgCO2eq/m²) | F23: Commentaires | N23: =IF(N20>0,0,-N20/N16) -> #N/A
C24: =IF(A24="",0,VLOOKUP(A24,'Données Bureaux'!$B$23:$C$75,2,0)) -> 0 | D24: =C24*B24 -> 0 | E24: =D24/'ID bâtiment '!$D$18 -> #DIV/0! | F24: D'après les relevés, pas de fuite ou recharge depuis 3 ans
C25: =IF(A25="",0,VLOOKUP(A25,'Données Bureaux'!$B$23:$C$75,2,0)) -> 0 | D25: =C25*B25 -> 0 | E25: =D25/'ID bâtiment '!$D$18 -> #DIV/0!
C26: =IF(A26="",0,VLOOKUP(A26,'Données Bureaux'!$B$23:$C$75,2,0)) -> 0 | D26: =C26*B26 -> 0 | E26: =D26/'ID bâtiment '!$D$18 -> #DIV/0!
C27: =IF(A27="",0,VLOOKUP(A27,'Données Bureaux'!$B$23:$C$75,2,0)) -> 0 | D27: =C27*B27 -> 0 | E27: =D27/'ID bâtiment '!$D$18 -> #DIV/0! | J27: Ic Fluides Frigorigènes (kgCO2eq/m²)
C28: =IF(A28="",0,VLOOKUP(A28,'Données Bureaux'!$B$23:$C$75,2,0)) -> 0 | D28: =C28*B28 -> 0 | E28: =D28/'ID bâtiment '!$D$18 -> #DIV/0! | J28: =SUM(E24:E33) -> #DIV/0!
C29: =IF(A29="",0,VLOOKUP(A29,'Données Bureaux'!$B$23:$C$75,2,0)) -> 0 | D29: =C29*B29 -> 0 | E29: =D29/'ID bâtiment '!$D$18 -> #DIV/0!
C30: =IF(A30="",0,VLOOKUP(A30,'Données Bureaux'!$B$23:$C$75,2,0)) -> 0 | D30: =C30*B30 -> 0 | E30: =D30/'ID bâtiment '!$D$18 -> #DIV/0!
C31: =IF(A31="",0,VLOOKUP(A31,'Données Bureaux'!$B$23:$C$75,2,0)) -> 0 | D31: =C31*B31 -> 0 | E31: =D31/'ID bâtiment '!$D$18 -> #DIV/0!
C32: =IF(A32="",0,VLOOKUP(A32,'Données Bureaux'!$B$23:$C$75,2,0)) -> 0 | D32: =C32*B32 -> 0 | E32: =D32/'ID bâtiment '!$D$18 -> #DIV/0!
C33: =IF(A33="",0,VLOOKUP(A33,'Données Bureaux'!$B$23:$C$75,2,0)) -> 0 | D33: =C33*B33 -> 0 | E33: =D33/'ID bâtiment '!$D$18 -> #DIV/0!
A36: Déchets
A38: Données sur les déchets connues ? | N38: Ic déchet par défaut (kgCO2e/m2.an)
N39: 4
A42: Type | B42: Mode de traitement | C42: Tonne /an | D42: FE (kgCO2e / tonne) | E42: Impact (kgCO2e/m².an) | F42: Commentaires | I42: Type et mode de traitement | N42: Ic Déchets (kgCO2e/m2.an)
D43: =IF(I43=" ",0,VLOOKUP(I43,Type_dec10[[#All],[Type_dec]:[FE (kgCO2/tonne) base ADEME]],2,FALSE)) -> 0 | E43: =D43*C43/'ID bâtiment '!$D$18 -> #DIV/0! | I43: =A43&" "&B43 | N43: =IF(A39="Non",N39,SUM(E43:E59)) -> #DIV/0!
D44: =IF(I44=" ",0,VLOOKUP(I44,Type_dec10[[#All],[Type_dec]:[FE (kgCO2/tonne) base ADEME]],2,FALSE)) -> 0 | E44: =D44*C44/'ID bâtiment '!$D$18 -> #DIV/0! | I44: =A44&" "&B44
D45: =IF(I45=" ",0,VLOOKUP(I45,Type_dec10[[#All],[Type_dec]:[FE (kgCO2/tonne) base ADEME]],2,FALSE)) -> 0 | E45: =D45*C45/'ID bâtiment '!$D$18 -> #DIV/0! | I45: =A45&" "&B45
D46: =IF(I46=" ",0,VLOOKUP(I46,Type_dec10[[#All],[Type_dec]:[FE (kgCO2/tonne) base ADEME]],2,FALSE)) -> 0 | E46: =D46*C46/'ID bâtiment '!$D$18 -> #DIV/0! | I46: =A46&" "&B46
D47: =IF(I47=" ",0,VLOOKUP(I47,Type_dec10[[#All],[Type_dec]:[FE (kgCO2/tonne) base ADEME]],2,FALSE)) -> 0 | E47: =D47*C47/'ID bâtiment '!$D$18 -> #DIV/0! | I47: =A47&" "&B47
D48: =IF(I48=" ",0,VLOOKUP(I48,Type_dec10[[#All],[Type_dec]:[FE (kgCO2/tonne) base ADEME]],2,FALSE)) -> 0 | E48: =D48*C48/'ID bâtiment '!$D$18 -> #DIV/0! | I48: =A48&" "&B48
D49: =IF(I49=" ",0,VLOOKUP(I49,Type_dec10[[#All],[Type_dec]:[FE (kgCO2/tonne) base ADEME]],2,FALSE)) -> 0 | E49: =D49*C49/'ID bâtiment '!$D$18 -> #DIV/0! | I49: =A49&" "&B49
D50: =IF(I50=" ",0,VLOOKUP(I50,Type_dec10[[#All],[Type_dec]:[FE (kgCO2/tonne) base ADEME]],2,FALSE)) -> 0 | E50: =D50*C50/'ID bâtiment '!$D$18 -> #DIV/0! | I50: =A50&" "&B50
D51: =IF(I51=" ",0,VLOOKUP(I51,Type_dec10[[#All],[Type_dec]:[FE (kgCO2/tonne) base ADEME]],2,FALSE)) -> 0 | E51: =D51*C51/'ID bâtiment '!$D$18 -> #DIV/0! | I51: =A51&" "&B51
D52: =IF(I52=" ",0,VLOOKUP(I52,Type_dec10[[#All],[Type_dec]:[FE (kgCO2/tonne) base ADEME]],2,FALSE)) -> 0 | E52: =D52*C52/'ID bâtiment '!$D$18 -> #DIV/0! | I52: =A52&" "&B52
...

Sheet Calcul PCE et PCE NA
A1: Données d'entrées | D1: Calcul PCE NA | S1: Test réemploi | U1: Calcul PCE
S2: Oui
A3: Surface utile | B3: ='ID bâtiment '!D18 -> 0 | S3: Non | AG3: 2019 | AH3: 2020 | AI3: 2021 | AJ3: 2022 | AK3: 2023 | AL3: 2024 | AM3: 2025 | AN3: 2026 | AO3: 2027 | AP3: 2028 | AQ3: 2029 | AR3: 2030 | AS3: 2031 | AT3: 2032 | AU3: 2033 | AV3: 2034 | AW3: 2035 | AX3: 2036 | AY3: 2037 | AZ3: 2038 | BA3: 2039 | BB3: 2040 | BC3: 2041 | BD3: 2042 | BE3: 2043 | BF3: 2044 | BG3: 2045 | BH3: 2046 | BI3: 2047 | BJ3: 2048 | BK3: 2049 | BL3: 2050 | BM3: 2051 | BN3: 2052 | BO3: 2053 | BP3: 2054 | BQ3: 2055 | BR3: 2056 | BS3: 2057 | BT3: 2058 | BU3: 2059 | BV3: 2060
A4: Année courante
A5: Cas en vigueur
A6: Etat moyen | B6: =IF(B5="Cas 1",B10,IF(B5="Cas 2",B15,0)) -> 0 | D6: Element déposé | E6: Lot ACV | F6: Id INIES | G6: Référence produit INIES | H6: Localisation | I6: Quantité déposée | J6: Unité | K6: Année de dépose (N) | L6: Durée de vie estimée | M6: Durée de vie résiduelle | N6: Module A+B | O6: Module C + D | P6: Matériau réemployé ? | Q6: Impact Année N (kgCO2eq/m²) | U6: Produit mise en œuvre | V6: Lot ACV | W6: Id INIES | X6: Référence INIES | Y6: Localisation | Z6: Quantité installée | AA6: Unité | AB6: Année de mise en place | AC6: Facteur d'émission (sans B6/B7/C/D) | AD6: Durée de vie estimée | AE6: Impact annuel (kgCO2eq/m²) | AF6: Année de fin d'impact du PCE
Q7: =IF(I7="","",IF(P7="Oui",0,I7*(O7+N7*M7/L7)/$B$3)) | AE7: =IF(Z7="","",Z7*AC7/AD7/$B$3) | AF7: =IF(Z7="","",AB7+AD7-1) | AG7: =IF(AND($AB7<=AG$3,AG$3<=$AF7),$AE7,0) | AH7: =IF(AND($AB7<=AH$3,AH$3<=$AF7),$AE7,0) | AI7: =IF(AND($AB7<=AI$3,AI$3<=$AF7),$AE7,0) | AJ7: =IF(AND($AB7<=AJ$3,AJ$3<=$AF7),$AE7,0) | AK7: =IF(AND($AB7<=AK$3,AK$3<=$AF7),$AE7,0) | AL7: =IF(AND($AB7<=AL$3,AL$3<=$AF7),$AE7,0) | AM7: =IF(AND($AB7<=AM$3,AM$3<=$AF7),$AE7,0) | AN7: =IF(AND($AB7<=AN$3,AN$3<=$AF7),$AE7,0) | ... BV7: =IF(AND($AB7<=BV$3,BV$3<=$AF7),$AE7,0)
A8: Cas 1 - Année de dernière rénovation lourde ou de construction connue | Q8: =IF(I8="","",IF(P8="Oui",0,I8*(O8+N8*M8/L8)/$B$3)) | AE8: =IF(Z8="","",Z8*AC8/AD8/$B$3) | AF8: =IF(Z8="","",AB8+AD8-1) | AG8: =IF(AND($AB8<=AG$3,AG$3<=$AF8),$AE8,0) | AH8: =IF(AND($AB8<=AH$3,AH$3<=$AF8),$AE8,0) | AI8: =IF(AND($AB8<=AI$3,AI$3<=$AF8),$AE8,0) | AJ8: =IF(AND($AB8<=AJ$3,AJ$3<=$AF8),$AE8,0) | AK8: =IF(AND($AB8<=AK$3,AK$3<=$AF8),$AE8,0) | AL8: =IF(AND($AB8<=AL$3,AL$3<=$AF8),$AE8,0) | AM8: =IF(AND($AB8<=AM$3,AM$3<=$AF8),$AE8,0) | AN8: =IF(AND($AB8<=AN$3,AN$3<=$AF8),$AE8,0) | ... BV8: =IF(AND($AB8<=BV$3,BV$3<=$AF8),$AE8,0)
Q9: =IF(I9="","",IF(P9="Oui",0,I9*(O9+N9*M9/L9)/$B$3)) | AE9: =IF(Z9="","",Z9*AC9/AD9/$B$3) | AF9: =IF(Z9="","",AB9+AD9-1) | AG9: =IF(AND($AB9<=AG$3,AG$3<=$AF9),$AE9,0) | AH9: =IF(AND($AB9<=AH$3,AH$3<=$AF9),$AE9,0) | AI9: =IF(AND($AB9<=AI$3,AI$3<=$AF9),$AE9,0) | AJ9: =IF(AND($AB9<=AJ$3,AJ$3<=$AF9),$AE9,0) | AK9: =IF(AND($AB9<=AK$3,AK$3<=$AF9),$AE9,0) | AL9: =IF(AND($AB9<=AL$3,AL$3<=$AF9),$AE9,0) | AM9: =IF(AND($AB9<=AM$3,AM$3<=$AF9),$AE9,0) | AN9: =IF(AND($AB9<=AN$3,AN$3<=$AF9),$AE9,0) | ... BV9: =IF(AND($AB9<=BV$3,BV$3<=$AF9),$AE9,0)
A10: Si connu, nombre d'années écoulées depuis la date de construction ou de dernière rénovation lourde | B10: =B4-B11 -> 0 | Q10: =IF(I10="","",IF(P10="Oui",0,I10*(O10+N10*M10/L10)/$B$3)) | AE10: =IF(Z10="","",Z10*AC10/AD10/$B$3) | AF10: =IF(Z10="","",AB10+AD10-1) | AG10: =IF(AND($AB10<=AG$3,AG$3<=$AF10),$AE10,0) | AH10: =IF(AND($AB10<=AH$3,AH$3<=$AF10),$AE10,0) | AI10: =IF(AND($AB10<=AI$3,AI$3<=$AF10),$AE10,0) | AJ10: =IF(AND($AB10<=AJ$3,AJ$3<=$AF10),$AE10,0) | AK10: =IF(AND($AB10<=AK$3,AK$3<=$AF10),$AE10,0) | AL10: =IF(AND($AB10<=AL$3,AL$3<=$AF10),$AE10,0) | AM10: =IF(AND($AB10<=AM$3,AM$3<=$AF10),$AE10,0) | AN10: =IF(AND($AB10<=AN$3,AN$3<=$AF10),$AE10,0) | ... BV10: =IF(AND($AB10<=BV$3,BV$3<=$AF10),$AE10,0)
A11: Si connu, année de construction ou de dernière rénovation lourde | B11: ='ID bâtiment '!D22 -> 0 | Q11: =IF(I11="","",IF(P11="Oui",0,I11*(O11+N11*M11/L11)/$B$3)) | AE11: =IF(Z11="","",Z11*AC11/AD11/$B$3) | AF11: =IF(Z11="","",AB11+AD11-1) | AG11: =IF(AND($AB11<=AG$3,AG$3<=$AF11),$AE11,0) | AH11: =IF(AND($AB11<=AH$3,AH$3<=$AF11),$AE11,0) | AI11: =IF(AND($AB11<=AI$3,AI$3<=$AF11),$AE11,0) | AJ11: =IF(AND($AB11<=AJ$3,AJ$3<=$AF11),$AE11,0) | AK11: =IF(AND($AB11<=AK$3,AK$3<=$AF11),$AE11,0) | AL11: =IF(AND($AB11<=AL$3,AL$3<=$AF11),$AE11,0) | AM11: =IF(AND($AB11<=AM$3,AM$3<=$AF11),$AE11,0) | AN11: =IF(AND($AB11<=AN$3,AN$3<=$AF11),$AE11,0) | ... BV11: =IF(AND($AB11<=BV$3,BV$3<=$AF11),$AE11,0)
Q12: =IF(I12="","",IF(P12="Oui",0,I12*(O12+N12*M12/L12)/$B$3)) | AE12: =IF(Z12="","",Z12*AC12/AD12/$B$3) | AF12: =IF(Z12="","",AB12+AD12-1) | AG12: =IF(AND($AB12<=AG$3,AG$3<=$AF12),$AE12,0) | AH12: =IF(AND($AB12<=AH$3,AH$3<=$AF12),$AE12,0) | AI12: =IF(AND($AB12<=AI$3,AI$3<=$AF12),$AE12,0) | AJ12: =IF(AND($AB12<=AJ$3,AJ$3<=$AF12),$AE12,0) | AK12: =IF(AND($AB12<=AK$3,AK$3<=$AF12),$AE12,0) | AL12: =IF(AND($AB12<=AL$3,AL$3<=$AF12),$AE12,0) | AM12: =IF(AND($AB12<=AM$3,AM$3<=$AF12),$AE12,0) | AN12: =IF(AND($AB12<=AN$3,AN$3<=$AF12),$AE12,0) | ... BV12: =IF(AND($AB12<=BV$3,BV$3<=$AF12),$AE12,0)
A13: Cas 2 - Année de dernière rénovation lourde ou de construction inconnue | Q13: =IF(I13="","",IF(P13="Oui",0,I13*(O13+N13*M13/L13)/$B$3)) | AE13: =IF(Z13="","",Z13*AC13/AD13/$B$3) | AF13: =IF(Z13="","",AB13+AD13-1) | AG13: =IF(AND($AB13<=AG$3,AG$3<=$AF13),$AE13,0) | AH13: =IF(AND($AB13<=AH$3,AH$3<=$AF13),$AE13,0) | AI13: =IF(AND($AB13<=AI$3,AI$3<=$AF13),$AE13,0) | AJ13: =IF(AND($AB13<=AJ$3,AJ$3<=$AF13),$AE13,0) | AK13: =IF(AND($AB13<=AK$3,AK$3<=$AF13),$AE13,0) | AL13: =IF(AND($AB13<=AL$3,AL$3<=$AF13),$AE13,0) | AM13: =IF(AND($AB13<=AM$3,AM$3<=$AF13),$AE13,0) | AN13: =IF(AND($AB13<=AN$3,AN$3<=$AF13),$AE13,0) | ... BV13: =IF(AND($AB13<=BV$3,BV$3<=$AF13),$AE13,0)
Q14: =IF(I14="","",IF(P14="Oui",0,I14*(O14+N14*M14/L14)/$B$3)) | AE14: =IF(Z14="","",Z14*AC14/AD14/$B$3) | AF14: =IF(Z14="","",AB14+AD14-1) | AG14: =IF(AND($AB14<=AG$3,AG$3<=$AF14),$AE14,0) | AH14: =IF(AND($AB14<=AH$3,AH$3<=$AF14),$AE14,0) | AI14: =IF(AND($AB14<=AI$3,AI$3<=$AF14),$AE14,0) | AJ14: =IF(AND($AB14<=AJ$3,AJ$3<=$AF14),$AE14,0) | AK14: =IF(AND($AB14<=AK$3,AK$3<=$AF14),$AE14,0) | AL14: =IF(AND($AB14<=AL$3,AL$3<=$AF14),$AE14,0) | AM14: =IF(AND($AB14<=AM$3,AM$3<=$AF14),$AE14,0) | AN14: =IF(AND($AB14<=AN$3,AN$3<=$AF14),$AE14,0) | ... BV14: =IF(AND($AB14<=BV$3,BV$3<=$AF14),$AE14,0)
A15: Etat moyen bâtiment (calculé selon l'inventaire des matériaux) | Q15: =IF(I15="","",IF(P15="Oui",0,I15*(O15+N15*M15/L15)/$B$3)) | AE15: =IF(Z15="","",Z15*AC15/AD15/$B$3) | AF15: =IF(Z15="","",AB15+AD15-1) | AG15: =IF(AND($AB15<=AG$3,AG$3<=$AF15),$AE15,0) | AH15: =IF(AND($AB15<=AH$3,AH$3<=$AF15),$AE15,0) | AI15: =IF(AND($AB15<=AI$3,AI$3<=$AF15),$AE15,0) | AJ15: =IF(AND($AB15<=AJ$3,AJ$3<=$AF15),$AE15,0) | AK15: =IF(AND($AB15<=AK$3,AK$3<=$AF15),$AE15,0) | AL15: =IF(AND($AB15<=AL$3,AL$3<=$AF15),$AE15,0) | AM15: =IF(AND($AB15<=AM$3,AM$3<=$AF15),$AE15,0) | AN15: =IF(AND($AB15<=AN$3,AN$3<=$AF15),$AE15,0) | ... BV15: =IF(AND($AB15<=BV$3,BV$3<=$AF15),$AE15,0)
Q16: =IF(I16="","",IF(P16="Oui",0,I16*(O16+N16*M16/L16)/$B$3)) | AE16: =IF(Z16="","",Z16*AC16/AD16/$B$3) | AF16: =IF(Z16="","",AB16+AD16-1) | AG16: =IF(AND($AB16<=AG$3,AG$3<=$AF16),$AE16,0) | AH16: =IF(AND($AB16<=AH$3,AH$3<=$AF16),$AE16,0) | AI16: =IF(AND($AB16<=AI$3,AI$3<=$AF16),$AE16,0) | AJ16: =IF(AND($AB16<=AJ$3,AJ$3<=$AF16),$AE16,0) | AK16: =IF(AND($AB16<=AK$3,AK$3<=$AF16),$AE16,0) | AL16: =IF(AND($AB16<=AL$3,AL$3<=$AF16),$AE16,0) | AM16: =IF(AND($AB16<=AM$3,AM$3<=$AF16),$AE16,0) | AN16: =IF(AND($AB16<=AN$3,AN$3<=$AF16),$AE16,0) | ... BV16: =IF(AND($AB16<=BV$3,BV$3<=$AF16),$AE16,0)
Q17: =IF(I17="","",IF(P17="Oui",0,I17*(O17+N17*M17/L17)/$B$3)) | AE17: =IF(Z17="","",Z17*AC17/AD17/$B$3) | AF17: =IF(Z17="","",AB17+AD17-1) | AG17: =IF(AND($AB17<=AG$3,AG$3<=$AF17),$AE17,0) | AH17: =IF(AND($AB17<=AH$3,AH$3<=$AF17),$AE17,0) | AI17: =IF(AND($AB17<=AI$3,AI$3<=$AF17),$AE17,0) | AJ17: =IF(AND($AB17<=AJ$3,AJ$3<=$AF17),$AE17,0) | AK17: =IF(AND($AB17<=AK$3,AK$3<=$AF17),$AE17,0) | AL17: =IF(AND($AB17<=AL$3,AL$3<=$AF17),$AE17,0) | AM17: =IF(AND($AB17<=AM$3,AM$3<=$AF17),$AE17,0) | AN17: =IF(AND($AB17<=AN$3,AN$3<=$AF17),$AE17,0) | ... BV17: =IF(AND($AB17<=BV$3,BV$3<=$AF17),$AE17,0)
A18: Merci de remplir : 1- L'année courante 2- Choisir le cas de figure (date de construction ou de dernière rénovation lourde connue => cas 1, sinon cas 2) 3 - Remplir les informations du cas 1 ou 2 | Q18: =IF(I18="","",IF(P18="Oui",0,I18*(O18+N18*M18/L18)/$B$3)) | AE18: =IF(Z18="","",Z18*AC18/AD18/$B$3) | AF18: =IF(Z18="","",AB18+AD18-1) | AG18: =IF(AND($AB18<=AG$3,AG$3<=$AF18),$AE18,0) | AH18: =IF(AND($AB18<=AH$3,AH$3<=$AF18),$AE18,0) | AI18: =IF(AND($AB18<=AI$3,AI$3<=$AF18),$AE18,0) | AJ18: =IF(AND($AB18<=AJ$3,AJ$3<=$AF18),$AE18,0) | AK18: =IF(AND($AB18<=AK$3,AK$3<=$AF18),$AE18,0) | AL18: =IF(AND($AB18<=AL$3,AL$3<=$AF18),$AE18,0) | AM18: =IF(AND($AB18<=AM$3,AM$3<=$AF18),$AE18,0) | AN18: =IF(AND($AB18<=AN$3,AN$3<=$AF18),$AE18,0) | ... BV18: =IF(AND($AB18<=BV$3,BV$3<=$AF18),$AE18,0)
Q19: =IF(I19="","",IF(P19="Oui",0,I19*(O19+N19*M19/L19)/$B$3)) | AE19: =IF(Z19="","",Z19*AC19/AD19/$B$3) | AF19: =IF(Z19="","",AB19+AD19-1) | AG19: =IF(AND($AB19<=AG$3,AG$3<=$AF19),$AE19,0) | AH19: =IF(AND($AB19<=AH$3,AH$3<=$AF19),$AE19,0) | AI19: =IF(AND($AB19<=AI$3,AI$3<=$AF19),$AE19,0) | AJ19: =IF(AND($AB19<=AJ$3,AJ$3<=$AF19),$AE19,0) | AK19: =IF(AND($AB19<=AK$3,AK$3<=$AF19),$AE19,0) | AL19: =IF(AND($AB19<=AL$3,AL$3<=$AF19),$AE19,0) | AM19: =IF(AND($AB19<=AM$3,AM$3<=$AF19),$AE19,0) | AN19: =IF(AND($AB19<=AN$3,AN$3<=$AF19),$AE19,0) | ... BV19: =IF(AND($AB19<=BV$3,BV$3<=$AF19),$AE19,0)
Q20: =IF(I20="","",IF(P20="Oui",0,I20*(O20+N20*M20/L20)/$B$3)) | AE20: =IF(Z20="","",Z20*AC20/AD20/$B$3) | AF20: =IF(Z20="","",AB20+AD20-1) | AG20: =IF(AND($AB20<=AG$3,AG$3<=$AF20),$AE20,0) | AH20: =IF(AND($AB20<=AH$3,AH$3<=$AF20),$AE20,0) | AI20: =IF(AND($AB20<=AI$3,AI$3<=$AF20),$AE20,0) | AJ20: =IF(AND($AB20<=AJ$3,AJ$3<=$AF20),$AE20,0) | AK20: =IF(AND($AB20<=AK$3,AK$3<=$AF20),$AE20,0) | AL20: =IF(AND($AB20<=AL$3,AL$3<=$AF20),$AE20,0) | AM20: =IF(AND($AB20<=AM$3,AM$3<=$AF20),$AE20,0) | AN20: =IF(AND($AB20<=AN$3,AN$3<=$AF20),$AE20,0) | ... BV20: =IF(AND($AB20<=BV$3,BV$3<=$AF20),$AE20,0)
Q21: =IF(I21="","",IF(P21="Oui",0,I21*(O21+N21*M21/L21)/$B$3)) | AE21: =IF(Z21="","",Z21*AC21/AD21/$B$3) | AF21: =IF(Z21="","",AB21+AD21-1) | AG21: =IF(AND($AB21<=AG$3,AG$3<=$AF21),$AE21,0) | AH21: =IF(AND($AB21<=AH$3,AH$3<=$AF21),$AE21,0) | AI21: =IF(AND($AB21<=AI$3,AI$3<=$AF21),$AE21,0) | AJ21: =IF(AND($AB21<=AJ$3,AJ$3<=$AF21),$AE21,0) | AK21: =IF(AND($AB21<=AK$3,AK$3<=$AF21),$AE21,0) | AL21: =IF(AND($AB21<=AL$3,AL$3<=$AF21),$AE21,0) | AM21: =IF(AND($AB21<=AM$3,AM$3<=$AF21),$AE21,0) | AN21: =IF(AND($AB21<=AN$3,AN$3<=$AF21),$AE21,0) | ... BV21: =IF(AND($AB21<=BV$3,BV$3<=$AF21),$AE21,0)
Q22: =IF(I22="","",IF(P22="Oui",0,I22*(O22+N22*M22/L22)/$B$3)) | AE22: =IF(Z22="","",Z22*AC22/AD22/$B$3) | AF22: =IF(Z22="","",AB22+AD22-1) | AG22: =IF(AND($AB22<=AG$3,AG$3<=$AF22),$AE22,0) | AH22: =IF(AND($AB22<=AH$3,AH$3<=$AF22),$AE22,0) | AI22: =IF(AND($AB22<=AI$3,AI$3<=$AF22),$AE22,0) | AJ22: =IF(AND($AB22<=AJ$3,AJ$3<=$AF22),$AE22,0) | AK22: =IF(AND($AB22<=AK$3,AK$3<=$AF22),$AE22,0) | AL22: =IF(AND($AB22<=AL$3,AL$3<=$AF22),$AE22,0) | AM22: =IF(AND($AB22<=AM$3,AM$3<=$AF22),$AE22,0) | AN22: =IF(AND($AB22<=AN$3,AN$3<=$AF22),$AE22,0) | ... BV22: =IF(AND($AB22<=BV$3,BV$3<=$AF22),$AE22,0)
Q23: =IF(I23="","",IF(P23="Oui",0,I23*(O23+N23*M23/L23)/$B$3)) | AE23: =IF(Z23="","",Z23*AC23/AD23/$B$3) | AF23: =IF(Z23="","",AB23+AD23-1) | AG23: =IF(AND($AB23<=AG$3,AG$3<=$AF23),$AE23,0) | AH23: =IF(AND($AB23<=AH$3,AH$3<=$AF23),$AE23,0) | AI23: =IF(AND($AB23<=AI$3,AI$3<=$AF23),$AE23,0) | AJ23: =IF(AND($AB23<=AJ$3,AJ$3<=$AF23),$AE23,0) | AK23: =IF(AND($AB23<=AK$3,AK$3<=$AF23),$AE23,0) | AL23: =IF(AND($AB23<=AL$3,AL$3<=$AF23),$AE23,0) | AM23: =IF(AND($AB23<=AM$3,AM$3<=$AF23),$AE23,0) | AN23: =IF(AND($AB23<=AN$3,AN$3<=$AF23),$AE23,0) | ... BV23: =IF(AND($AB23<=BV$3,BV$3<=$AF23),$AE23,0)
Q24: =IF(I24="","",IF(P24="Oui",0,I24*(O24+N24*M24/L24)/$B$3)) | AE24: =IF(Z24="","",Z24*AC24/AD24/$B$3) | AF24: =IF(Z24="","",AB24+AD24-1) | AG24: =IF(AND($AB24<=AG$3,AG$3<=$AF24),$AE24,0) | AH24: =IF(AND($AB24<=AH$3,AH$3<=$AF24),$AE24,0) | AI24: =IF(AND($AB24<=AI$3,AI$3<=$AF24),$AE24,0) | AJ24: =IF(AND($AB24<=AJ$3,AJ$3<=$AF24),$AE24,0) | AK24: =IF(AND($AB24<=AK$3,AK$3<=$AF24),$AE24,0) | AL24: =IF(AND($AB24<=AL$3,AL$3<=$AF24),$AE24,0) | AM24: =IF(AND($AB24<=AM$3,AM$3<=$AF24),$AE24,0) | AN24: =IF(AND($AB24<=AN$3,AN$3<=$AF24),$AE24,0) | ... BV24: =IF(AND($AB24<=BV$3,BV$3<=$AF24),$AE24,0)
Q25: =IF(I25="","",IF(P25="Oui",0,I25*(O25+N25*M25/L25)/$B$3)) | AE25: =IF(Z25="","",Z25*AC25/AD25/$B$3) | AF25: =IF(Z25="","",AB25+AD25-1) | AG25: =IF(AND($AB25<=AG$3,AG$3<=$AF25),$AE25,0) | AH25: =IF(AND($AB25<=AH$3,AH$3<=$AF25),$AE25,0) | AI25: =IF(AND($AB25<=AI$3,AI$3<=$AF25),$AE25,0) | AJ25: =IF(AND($AB25<=AJ$3,AJ$3<=$AF25),$AE25,0) | AK25: =IF(AND($AB25<=AK$3,AK$3<=$AF25),$AE25,0) | AL25: =IF(AND($AB25<=AL$3,AL$3<=$AF25),$AE25,0) | AM25: =IF(AND($AB25<=AM$3,AM$3<=$AF25),$AE25,0) | AN25: =IF(AND($AB25<=AN$3,AN$3<=$AF25),$AE25,0) | ... BV25: =IF(AND($AB25<=BV$3,BV$3<=$AF25),$AE25,0)
Q26: =IF(I26="","",IF(P26="Oui",0,I26*(O26+N26*M26/L26)/$B$3)) | AE26: =IF(Z26="","",Z26*AC26/AD26/$B$3) | AF26: =IF(Z26="","",AB26+AD26-1) | AG26: =IF(AND($AB26<=AG$3,AG$3<=$AF26),$AE26,0) | AH26: =IF(AND($AB26<=AH$3,AH$3<=$AF26),$AE26,0) | AI26: =IF(AND($AB26<=AI$3,AI$3<=$AF26),$AE26,0) | AJ26: =IF(AND($AB26<=AJ$3,AJ$3<=$AF26),$AE26,0) | AK26: =IF(AND($AB26<=AK$3,AK$3<=$AF26),$AE26,0) | AL26: =IF(AND($AB26<=AL$3,AL$3<=$AF26),$AE26,0) | AM26: =IF(AND($AB26<=AM$3,AM$3<=$AF26),$AE26,0) | AN26: =IF(AND($AB26<=AN$3,AN$3<=$AF26),$AE26,0) | ... BV26: =IF(AND($AB26<=BV$3,BV$3<=$AF26),$AE26,0)
Q27: =IF(I27="","",IF(P27="Oui",0,I27*(O27+N27*M27/L27)/$B$3)) | AE27: =IF(Z27="","",Z27*AC27/AD27/$B$3) | AF27: =IF(Z27="","",AB27+AD27-1) | AG27: =IF(AND($AB27<=AG$3,AG$3<=$AF27),$AE27,0) | AH27: =IF(AND($AB27<=AH$3,AH$3<=$AF27),$AE27,0) | AI27: =IF(AND($AB27<=AI$3,AI$3<=$AF27),$AE27,0) | AJ27: =IF(AND($AB27<=AJ$3,AJ$3<=$AF27),$AE27,0) | AK27: =IF(AND($AB27<=AK$3,AK$3<=$AF27),$AE27,0) | AL27: =IF(AND($AB27<=AL$3,AL$3<=$AF27),$AE27,0) | AM27: =IF(AND($AB27<=AM$3,AM$3<=$AF27),$AE27,0) | AN27: =IF(AND($AB27<=AN$3,AN$3<=$AF27),$AE27,0) | ... BV27: =IF(AND($AB27<=BV$3,BV$3<=$AF27),$AE27,0)
Q28: =IF(I28="","",IF(P28="Oui",0,I28*(O28+N28*M28/L28)/$B$3)) | AE28: =IF(Z28="","",Z28*AC28/AD28/$B$3) | AF28: =IF(Z28="","",AB28+AD28-1) | AG28: =IF(AND($AB28<=AG$3,AG$3<=$AF28),$AE28,0) | AH28: =IF(AND($AB28<=AH$3,AH$3<=$AF28),$AE28,0) | AI28: =IF(AND($AB28<=AI$3,AI$3<=$AF28),$AE28,0) | AJ28: =IF(AND($AB28<=AJ$3,AJ$3<=$AF28),$AE28,0) | AK28: =IF(AND($AB28<=AK$3,AK$3<=$AF28),$AE28,0) | AL28: =IF(AND($AB28<=AL$3,AL$3<=$AF28),$AE28,0) | AM28: =IF(AND($AB28<=AM$3,AM$3<=$AF28),$AE28,0) | AN28: =IF(AND($AB28<=AN$3,AN$3<=$AF28),$AE28,0) | ... BV28: =IF(AND($AB28<=BV$3,BV$3<=$AF28),$AE28,0)
Q29: =IF(I29="","",IF(P29="Oui",0,I29*(O29+N29*M29/L29)/$B$3)) | AE29: =IF(Z29="","",Z29*AC29/AD29/$B$3) | AF29: =IF(Z29="","",AB29+AD29-1) | AG29: =IF(AND($AB29<=AG$3,AG$3<=$AF29),$AE29,0) | AH29: =IF(AND($AB29<=AH$3,AH$3<=$AF29),$AE29,0) | AI29: =IF(AND($AB29<=AI$3,AI$3<=$AF29),$AE29,0) | AJ29: =IF(AND($AB29<=AJ$3,AJ$3<=$AF29),$AE29,0) | AK29: =IF(AND($AB29<=AK$3,AK$3<=$AF29),$AE29,0) | AL29: =IF(AND($AB29<=AL$3,AL$3<=$AF29),$AE29,0) | AM29: =IF(AND($AB29<=AM$3,AM$3<=$AF29),$AE29,0) | AN29: =IF(AND($AB29<=AN$3,AN$3<=$AF29),$AE29,0) | ... BV29: =IF(AND($AB29<=BV$3,BV$3<=$AF29),$AE29,0)
Q30: =IF(I30="","",IF(P30="Oui",0,I30*(O30+N30*M30/L30)/$B$3)) | AE30: =IF(Z30="","",Z30*AC30/AD30/$B$3) | AF30: =IF(Z30="","",AB30+AD30-1) | AG30: =IF(AND($AB30<=AG$3,AG$3<=$AF30),$AE30,0) | AH30: =IF(AND($AB30<=AH$3,AH$3<=$AF30),$AE30,0) | AI30: =IF(AND($AB30<=AI$3,AI$3<=$AF30),$AE30,0) | AJ30: =IF(AND($AB30<=AJ$3,AJ$3<=$AF30),$AE30,0) | AK30: =IF(AND($AB30<=AK$3,AK$3<=$AF30),$AE30,0) | AL30: =IF(AND($AB30<=AL$3,AL$3<=$AF30),$AE30,0) | AM30: =IF(AND($AB30<=AM$3,AM$3<=$AF30),$AE30,0) | AN30: =IF(AND($AB30<=AN$3,AN$3<=$AF30),$AE30,0) | ... BV30: =IF(AND($AB30<=BV$3,BV$3<=$AF30),$AE30,0)
... Q33: =IF(I33="","",IF(P33="Oui",0,I33*(O33+N33*M33/L33)/$B$3)) | AE33: =IF(Z33="","",Z33*AC33/AD33/$B$3) | AF33: =IF(Z33="","",AB33+AD33-1) | AG33: =IF(AND($AB33<=AG$3,AG$3<=$AF33),$AE33,0) | AH33: =IF(AND($AB33<=AH$3,AH$3<=$AF33),$AE33,0) | AI33: =IF(AND($AB33<=AI$3,AI$3<=$AF33),$AE33,0) | AJ33: =IF(AND($AB33<=AJ$3,AJ$3<=$AF33),$AE33,0) | AK33: =IF(AND($AB33<=AK$3,AK$3<=$AF33),$AE33,0) | AL33: =IF(AND($AB33<=AL$3,AL$3<=$AF33),$AE33,0) | AM33: =IF(AND($AB33<=AM$3,AM$3<=$AF33),$AE33,0) | AN33: =IF(AND($AB33<=AN$3,AN$3<=$AF33),$AE33,0) | ... BV33: =IF(AND($AB33<=BV$3,BV$3<=$AF33),$AE33,0)
Q34: =IF(I34="","",IF(P34="Oui",0,I34*(O34+N34*M34/L34)/$B$3)) | AE34: =IF(Z34="","",Z34*AC34/AD34/$B$3) | AF34: =IF(Z34="","",AB34+AD34-1)
Q35: =IF(I35="","",IF(P35="Oui",0,I35*(O35+N35*M35/L35)/$B$3)) | AE35: =IF(Z35="","",Z35*AC35/AD35/$B$3) | AF35: =IF(Z35="","",AB35+AD35-1)
Q36: =IF(I36="","",IF(P36="Oui",0,I36*(O36+N36*M36/L36)/$B$3)) | AE36: =IF(Z36="","",Z36*AC36/AD36/$B$3) | AF36: =IF(Z36="","",AB36+AD36-1)
Q37: =IF(I37="","",IF(P37="Oui",0,I37*(O37+N37*M37/L37)/$B$3)) | AE37: =IF(Z37="","",Z37*AC37/AD37/$B$3) | AF37: =IF(Z37="","",AB37+AD37-1)
Q38: =IF(I38="","",IF(P38="Oui",0,I38*(O38+N38*M38/L38)/$B$3)) | AE38: =IF(Z38="","",Z38*AC38/AD38/$B$3) | AF38: =IF(Z38="","",AB38+AD38-1)
Q39: =IF(I39="","",IF(P39="Oui",0,I39*(O39+N39*M39/L39)/$B$3)) | AE39: =IF(Z39="","",Z39*AC39/AD39/$B$3) | AF39: =IF(Z39="","",AB39+AD39-1)
Q40: =IF(I40="","",IF(P40="Oui",0,I40*(O40+N40*M40/L40)/$B$3)) | AE40: =IF(Z40="","",Z40*AC40/AD40/$B$3) | AF40: =IF(Z40="","",AB40+AD40-1)
Q41: =IF(I41="","",IF(P41="Oui",0,I41*(O41+N41*M41/L41)/$B$3)) | AE41: =IF(Z41="","",Z41*AC41/AD41/$B$3) | AF41: =IF(Z41="","",AB41+AD41-1)
Q42: =IF(I42="","",IF(P42="Oui",0,I42*(O42+N42*M42/L42)/$B$3)) | AE42: =IF(Z42="","",Z42*AC42/AD42/$B$3) | AF42: =IF(Z42="","",AB42+AD42-1)
...

Sheet Résultats Travaux
B1: 1 | C1: 2 | D1: 3 | E1: 4 | F1: 5 | G1: 6 | H1: 7 | I1: 8 | J1: 9 | K1: 10 | L1: 11 | M1: 12 | N1: 13 | O1: 14 | P1: 15 | Q1: 16 | R1: 17 | S1: 18 | T1: 19 | U1: 20 | V1: 21 | W1: 22 | X1: 23 | Y1: 24 | Z1: 25 | AA1: 26 | AB1: 27 | AC1: 28 | AD1: 29 | AE1: 30 | AF1: 31 | AG1: 32 | AH1: 33 | AI1: 34 | AJ1: 35 | AK1: 36 | AL1: 37 | AM1: 38 | AN1: 39 | AO1: 40 | AP1: 41 | AQ1: 42 | AR1: 43 | AS1: 44 | AT1: 45 | AU1: 46 | AV1: 47 | AW1: 48 | AX1: 49 | AY1: 50 | AZ1: 51 | BA1: 52 | BB1: 53 | BC1: 54 | BD1: 55 | BE1: 56 | BF1: 57 | BG1: 58 | BH1: 59 | BI1: 60 | BJ1: 61 | BK1: 62 | BL1: 63 | BM1: 64 | BN1: 65 | BO1: 66 | BP1: 67 | BQ1: 68 | BR1: 69 | BS1: 70 | BT1: 71 | BU1: 72 | BV1: 73 | BW1: 74 | BX1: 75 | BY1: 76 | BZ1: 77 | CA1: 78 | CB1: 79 | CC1: 80 | CD1: 81 | CE1: 82 | CF1: 83 | CG1: 84 | CH1: 85 | CI1: 86 | CJ1: 87 | CK1: 88 | CL1: 89 | CM1: 90 | CN1: 91 | CO1: 92 | CP1: 93 | CQ1: 94 | CR1: 95 | CS1: 96 | CT1: 97 | CU1: 98 | CV1: 99 | CW1: 100 | CX1: 101 | CY1: 102 | CZ1: 103 | DA1: 104 | DB1: 105 | DC1: 106 | DD1: 107 | DE1: 108 | DF1: 109 | DG1: 110
A2: Quota d'émission annuel selon l'âge | B2: 3 | C2: 3 | D2: 3 | E2: 3 | F2: 3 | G2: 6 | H2: 6 | I2: 6 | J2: 6 | K2: 6 | L2: 12 | M2: 12 | N2: 12 | O2: 12 | P2: 12 | Q2: 12 | R2: 12 | S2: 12 | T2: 12 | U2: 12 | V2: 12 | W2: 12 | X2: 12 | Y2: 12 | Z2: 12 | AA2: 15 | AB2: 15 | AC2: 15 | AD2: 15 | AE2: 15 | AF2: 15 | AG2: 15 | AH2: 15 | AI2: 15 | AJ2: 15 | AK2: 15 | AL2: 15 | AM2: 15 | AN2: 15 | AO2: 15 | AP2: 15 | AQ2: 15 | AR2: 15 | AS2: 15 | AT2: 15 | AU2: 15 | AV2: 15 | AW2: 15 | AX2: 15 | AY2: 15 | AZ2: 15 | BA2: 15 | BB2: 15 | BC2: 15 | BD2: 15 | BE2: 15 | BF2: 15 | BG2: 15 | BH2: 15 | BI2: 15 | BJ2: 15 | BK2: 15 | BL2: 15 | BM2: 15 | BN2: 15 | BO2: 15 | BP2: 15 | BQ2: 15 | BR2: 15 | BS2: 15 | BT2: 15 | BU2: 15 | BV2: 15 | BW2: 15 | BX2: 15 | BY2: 15 | BZ2: 15 | CA2: 15 | CB2: 15 | CC2: 15 | CD2: 15 | CE2: 15 | CF2: 15 | CG2: 15 | CH2: 15 | CI2: 15 | CJ2: 15 | CK2: 15 | CL2: 15 | CM2: 15 | CN2: 15 | CO2: 15 | CP2: 15 | CQ2: 15 | CR2: 15 | CS2: 15 | CT2: 15 | CU2: 15 | CV2: 15 | CW2: 15 | CX2: 15 | CY2: 15 | CZ2: 15 | DA2: 15 | DB2: 15 | DC2: 15 | DD2: 15 | DE2: 15 | DF2: 15 | DG2: 15
B5: 2019 | C5: 2020 | D5: 2021 | E5: 2022 | F5: 2023 | G5: 2024 | H5: 2025 | I5: 2026 | J5: 2027 | K5: 2028 | L5: 2029 | M5: 2030 | N5: 2031 | O5: 2032 | P5: 2033 | Q5: 2034 | R5: 2035 | S5: 2036 | T5: 2037 | U5: 2038 | V5: 2039 | W5: 2040 | X5: 2041 | Y5: 2042 | Z5: 2043 | AA5: 2044 | AB5: 2045 | AC5: 2046 | AD5: 2047 | AE5: 2048 | AF5: 2049 | AG5: 2050 | AH5: 2051 | AI5: 2052 | AJ5: 2053 | AK5: 2054 | AL5: 2055 | AM5: 2056 | AN5: 2057 | AO5: 2058 | AP5: 2059 | AQ5: 2060 | AR5: 2061 | AS5: 2062 | AT5: 2063 | AU5: 2064 | AV5: 2065 | AW5: 2066 | AX5: 2067 | AY5: 2068
A6: IcPCE | B6: =SUM('Calcul PCE et PCE NA'!AG7:AG33) -> 0 | C6: =SUM('Calcul PCE et PCE NA'!AH7:AH33) -> 0 | D6: =SUM('Calcul PCE et PCE NA'!AI7:AI33) -> 0 | E6: =SUM('Calcul PCE et PCE NA'!AJ7:AJ33) -> 0 | F6: =SUM('Calcul PCE et PCE NA'!AK7:AK33) -> 0 | G6: =SUM('Calcul PCE et PCE NA'!AL7:AL33) -> 0 | H6: =SUM('Calcul PCE et PCE NA'!AM7:AM33) -> 0 | I6: =SUM('Calcul PCE et PCE NA'!AN7:AN33) -> 0 | ... AY6: =SUM('Calcul PCE et PCE NA'!CD7:CD33) -> 0
A7: IcPCE NA | B7: =SUMIF('Calcul PCE et PCE NA'!$K$7:$K$33,'Résultats Travaux'!B5,'Calcul PCE et PCE NA'!$Q$7:$Q$33) -> 0 | C7: =SUMIF('Calcul PCE et PCE NA'!$K$7:$K$33,'Résultats Travaux'!C5,'Calcul PCE et PCE NA'!$Q$7:$Q$33) -> 0 | D7: =SUMIF('Calcul PCE et PCE NA'!$K$7:$K$33,'Résultats Travaux'!D5,'Calcul PCE et PCE NA'!$Q$7:$Q$33) -> 0 | E7: =SUMIF('Calcul PCE et PCE NA'!$K$7:$K$33,'Résultats Travaux'!E5,'Calcul PCE et PCE NA'!$Q$7:$Q$33) -> 0 | F7: =SUMIF('Calcul PCE et PCE NA'!$K$7:$K$33,'Résultats Travaux'!F5,'Calcul PCE et PCE NA'!$Q$7:$Q$33) -> 0 | G7: =SUMIF('Calcul PCE et PCE NA'!$K$7:$K$33,'Résultats Travaux'!G5,'Calcul PCE et PCE NA'!$Q$7:$Q$33) -> 0 | H7: =SUMIF('Calcul PCE et PCE NA'!$K$7:$K$33,'Résultats Travaux'!H5,'Calcul PCE et PCE NA'!$Q$7:$Q$33) -> 0 | I7: =SUMIF('Calcul PCE et PCE NA'!$K$7:$K$33,'Résultats Travaux'!I5,'Calcul PCE et PCE NA'!$Q$7:$Q$33) -> 0 | ... AY7: =SUMIF('Calcul PCE et PCE NA'!$K$7:$K$33,'Résultats Travaux'!AY5,'Calcul PCE et PCE NA'!$Q$7:$Q$33) -> 0
A9: Ic Travaux sur l'année N | B9: =B6+B7 -> 0 | C9: =C6+C7 -> 0 | D9: =D6+D7 -> 0 | E9: =E6+E7 -> 0 | F9: =F6+F7 -> 0 | G9: =G6+G7 -> 0 | H9: =H6+H7 -> 0 | I9: =I6+I7 -> 0 | ... AY9: =AY6+AY7 -> 0
A11: Age du bâtiment selon l'année | B11: =B5-'Calcul PCE et PCE NA'!$B$4+'Calcul PCE et PCE NA'!$B$6 -> 2019 | C11: =C5-'Calcul PCE et PCE NA'!$B$4+'Calcul PCE et PCE NA'!$B$6 -> 2020 | D11: =D5-'Calcul PCE et PCE NA'!$B$4+'Calcul PCE et PCE NA'!$B$6 -> 2021 | E11: =E5-'Calcul PCE et PCE NA'!$B$4+'Calcul PCE et PCE NA'!$B$6 -> 2022 | F11: =F5-'Calcul PCE et PCE NA'!$B$4+'Calcul PCE et PCE NA'!$B$6 -> 2023 | G11: =G5-'Calcul PCE et PCE NA'!$B$4+'Calcul PCE et PCE NA'!$B$6 -> 2024 | H11: =H5-'Calcul PCE et PCE NA'!$B$4+'Calcul PCE et PCE NA'!$B$6 -> 2025 | I11: =I5-'Calcul PCE et PCE NA'!$B$4+'Calcul PCE et PCE NA'!$B$6 -> 2026 | ... AY11: =AY5-'Calcul PCE et PCE NA'!$B$4+'Calcul PCE et PCE NA'!$B$6 -> 2068
A12: Droit d'émission annuel de l'actif | B12: =IF(B11<0,0,HLOOKUP(B11+1,$B1:$DG2,2,0)) -> #N/A | C12: =IF(C11<0,0,HLOOKUP(C11+1,$B1:$DG2,2,0)) -> #N/A | D12: =IF(D11<0,0,HLOOKUP(D11+1,$B1:$DG2,2,0)) -> #N/A | E12: =IF(E11<0,0,HLOOKUP(E11+1,$B1:$DG2,2,0)) -> #N/A | F12: =IF(F11<0,0,HLOOKUP(F11+1,$B1:$DG2,2,0)) -> #N/A | G12: =IF(G11<0,0,HLOOKUP(G11+1,$B1:$DG2,2,0)) -> #N/A | H12: =IF(H11<0,0,HLOOKUP(H11+1,$B1:$DG2,2,0)) -> #N/A | I12: =IF(I11<0,0,HLOOKUP(I11+1,$B1:$DG2,2,0)) -> #N/A | ... AY12: =IF(AY11<0,0,HLOOKUP(AY11+1,$B1:$DG2,2,0)) -> #N/A
B14: Début | C14: Fin | E14: Rentrer les deux années de début et de fin de cycle dans les cellules B15 et C15. Si un actif a moins de 3 ans d'exploitation (exemple : livraison en 2021), rentrez dans la cellule B15 2021 et C15 2022. Si il n'a qu'une année d'exploitation (ex : 2022), rentrez 2022 dans les deux cases)
A15: Années du cycle | B15: 2021 | C15: 2023
A16: Ic PCE sur le cycle | B16: =IF(C15-B15=0,HLOOKUP(B15,B5:AY9,2,0),IF(C15-B15=1,(HLOOKUP(B15,B5:AY9,2,0)+HLOOKUP(B15+1,B5:AY9,2,0))/2,(HLOOKUP(B15,B5:AY9,2,0)+HLOOKUP(B15+1,B5:AY9,2,0)+HLOOKUP(B15+2,B5:AY9,2,0))/3)) -> 0
A17: Ic PCE NA sur le cycle | B17: =IF(C15-B15=0,HLOOKUP(B15,B5:AY9,3,0),IF(C15-B15=1,(HLOOKUP(B15,B5:AY9,3,0)+HLOOKUP(B15+1,B5:AY9,3,0))/2,(HLOOKUP(B15,B5:AY9,3,0)+HLOOKUP(B15+1,B5:AY9,3,0)+HLOOKUP(B15+2,B5:AY9,3,0))/3)) -> 0
A18: Ic Travaux sur le cycle | B18: =IF(C15-B15=0,HLOOKUP(B15,B5:AY9,5,0),IF(C15-B15=1,(HLOOKUP(B15,B5:AY9,5,0)+HLOOKUP(B15+1,B5:AY9,5,0))/2,(HLOOKUP(B15,B5:AY9,5,0)+HLOOKUP(B15+1,B5:AY9,5,0)+HLOOKUP(B15+2,B5:AY9,5,0))/3)) -> 0
A19: Ic Travaux max | B19: =IF(C15-B15=0,HLOOKUP(B15,B5:AY12,8,0),IF(C15-B15=1,(HLOOKUP(B15,B5:AY12,8,0)+HLOOKUP(B15+1,B5:AY12,8,0))/2,(HLOOKUP(B15,B5:AY12,8,0)+HLOOKUP(B15+1,B5:AY12,8,0)+HLOOKUP(B15+2,B5:AY12,8,0))/3)) -> #N/A
A20: Ecart au seuil | B20: =B19-B18 -> #N/A
A21: Point BBCA | B21: =MIN(B22,B20*5) -> #N/A
A22: Nombre maximum de points BBCA | B22: =IF(HLOOKUP(C15,E5:M12,7,0)<=5,10,IF(HLOOKUP(C15,E5:M12,7,0)<=10,15,20)) -> 20

Sheet Innovation Bureaux
A2: Calcul des points innovations - Bureaux
A4: Mobilité durable
A6: Ic Déplacements (+2 point si calcul et la communication sont réalisés)
A8: Catégorie | B8: Type à selectionner | C8: km | D8: FE (kgCO2e / km) | E8: Impact (kgCO2e/m².an) | G8: Calcul et communication réalisés ? | H8: Non | J8: Ic Déplacements (kgCO2e/ETP.an) | M8: Ic Déplacement (kgCO2e/m².an)
D9: =IF(B9="","",VLOOKUP(B9,'Données Bureaux'!$B$214:$F$233,5,FALSE)) | E9: =IF(C9="","",C9*D9/'ID bâtiment '!$D$18) | G9: Point obtenu | H9: =IF(H8="Oui",2,0) -> 0 | J9: ='Innovation Bureaux'!E18*'ID bâtiment '!D18/'ID bâtiment '!D32 -> #DIV/0! | M9: ='Innovation Bureaux'!E18 -> 0
D10: =IF(B10="","",VLOOKUP(B10,'Données Bureaux'!$B$214:$F$233,5,FALSE)) | E10: =IF(C10="","",C10*D10/'ID bâtiment '!$D$18)
D11: =IF(B11="","",VLOOKUP(B11,'Données Bureaux'!$B$214:$F$233,5,FALSE)) | E11: =IF(C11="","",C11*D11/'ID bâtiment '!$D$18) | G11: Détails sur la communication réalisée
D12: =IF(B12="","",VLOOKUP(B12,'Données Bureaux'!$B$214:$F$233,5,FALSE)) | E12: =IF(C12="","",C12*D12/'ID bâtiment '!$D$18)
D13: =IF(B13="","",VLOOKUP(B13,'Données Bureaux'!$B$214:$F$233,5,FALSE)) | E13: =IF(C13="","",C13*D13/'ID bâtiment '!$D$18)
D14: =IF(B14="","",VLOOKUP(B14,'Données Bureaux'!$B$214:$F$233,5,FALSE)) | E14: =IF(C14="","",C14*D14/'ID bâtiment '!$D$18)
D15: =IF(B15="","",VLOOKUP(B15,'Données Bureaux'!$B$214:$F$233,5,FALSE)) | E15: =IF(C15="","",C15*D15/'ID bâtiment '!$D$18) | G15: Nota : 1- Il n'est pas obligé de remplir le calcul de cet indicateur dans cet onglet. Il est possible de joindre un fichier excel détaillant les calculs 2 - Afin d'afficher le résultat en kgCO2e/ETP, veuillez à bien remplir le nombre d'occupants dans l'onglet Id bâtiment
D16: =IF(B16="","",VLOOKUP(B16,'Données Bureaux'!$B$214:$F$233,5,FALSE)) | E16: =IF(C16="","",C16*D16/'ID bâtiment '!$D$18)
D17: =IF(B17="","",VLOOKUP(B17,'Données Bureaux'!$B$214:$F$233,5,FALSE)) | E17: =IF(C17="","",C17*D17/'ID bâtiment '!$D$18)
D18: TOTAL | E18: =SUM(E9:E17) -> 0
A20: Déplacement des prestataires
D22: Calcul réalisé ? | E22: Point obtenu
A23: Le calcul de l'impact du déplacement des prestataires a été réalisé | E23: =IF(D23="Oui",1,0) -> 0
A25: Accessibilité et installations
B27: Nombre de lignes de transports en commun dans un rayon de 600 mètres (maximum 3) | F27: Points obtenus
F28: =B28 -> 0
B30: Nombres de places de parking | D30: Nombre de bornes de recharges | F30: Points obtenus
F31: =IF(B31=0,0,IF(D31>=3*'Données Bureaux'!H178,3,IF(D31>=2*'Données Bureaux'!H178,2,IF(D31>='Données Bureaux'!H178,1,0)))) -> 0
B33: Nombres d'occupants | D33: Nombres de racks à vélo | F33: Points obtenus
B34: ='ID bâtiment '!D32 -> 0 | F34: =IF(B34=0,0,IF(D34>=3*'Données Bureaux'!H175,3,IF(D34>=2*'Données Bureaux'!H175,2,IF(D34>='Données Bureaux'!H175,1,0)))) -> 0
A36: Calcul de l'Ic RIE (+1 point)
A38: Types de prestation | B38: Nombre de repas servis au RIE par an | D38: FE (kgCO2e / repas) | E38: Impact (kgCO2eq/m².an) | G38: Calcul réalisé ? | H38: Non | M38: Ic RIE (kgCO2e/m².an)
A39: Repas classique (bœuf) | D39: =IF(A39="",0,VLOOKUP(A39,'Données Bureaux'!$B$202:$F$204,5,FALSE)) -> 6.29 | E39: =B39*D39/'ID bâtiment '!$D$18 -> #DIV/0! | G39: Point obtenu | H39: =IF(H38="Oui",1,0) -> 0 | M39: =(E42) -> #DIV/0!
A40: Repas végétarien | D40: =IF(A40="",0,VLOOKUP(A40,'Données Bureaux'!$B$202:$F$204,5,FALSE)) -> 0.51 | E40: =B40*D40/'ID bâtiment '!$D$18 -> #DIV/0!
A41: Repas classique (poulet) | D41: =IF(A41="",0,VLOOKUP(A41,'Données Bureaux'!$B$202:$F$204,5,FALSE)) -> 1.35 | E41: =B41*D41/'ID bâtiment '!$D$18 -> #DIV/0!
D42: TOTAL | E42: =SUM(E39:E41) -> #DIV/0!
A45: Intensité d'usages (+1 point si >= 20%)
D47: % | E47: Point obtenu
A48: Part de la surface utile (hors local commercial) classée en ERP | E48: =IF(D48>=0.2,1,0) -> 0
A50: Sensibilisation des occupants (+1 point si réalisée)
A52: Une sensibilisation des occupants est-elle réalisée comme mentionnée dans le référentiel ? | D52: Non | E52: Point obtenu | F52: Précisez le thème, le périmètre, etc.
E53: =IF(D52="Oui",1,0) -> 0
A57: Gestion des déchets (+1 point si Ic déchets < 1,5 kgCO2eq/m².an)
B59: Ic Déchets | C59: Point obtenu
B60: ='Calculs Bureaux'!N43 -> #DIV/0! | C60: =IF(B60=0,0,IF(B60<1.5,1,0)) -> #DIV/0!
A64: Intégration de réemploi dans le mobilier (Plus de 30% de la masse de mobilier issu du réemploi lors d'un rafraichissement de plateau)
...

Sheet Bilan  Bureaux
A1: Bilan BBCA Exploitation - Bureaux
B4: Exploitation Suivie | I4: Mobilité | L4: Travaux
B6: Energie / Fluides Frigorigènes | D6: Déchets | F6: Usages | I6: Déplacements | L6: Travaux
B8: EGES E+F (kgCO2eq/m².an) | D8: EGES Déchets (kgCO2e/m2.an) | F8: EGES USAGES (kgCO2eq/m².an) | I8: EGES Déplacement (kgCO2e/m².an) | L8: EGES Travaux (kgCO2eq/m².an)
B9: ='Calculs Bureaux'!N16 -> #DIV/0! | D9: =IF(#REF!="Non",#REF!,#REF!) -> #REF! | F9: ='Calculs Bureaux'!N86 -> #DIV/0! | I9: ='Innovation Bureaux'!M9 -> 0
B11: Seuil EGES E+F (kgCO2eq/m²) | L11: Seuil EGES Travaux max (kgCO2eq/m²)
B12: ='Calculs Bureaux'!N11 -> #N/A
B14: Ecart à la valeur seuil (kgCO2eq/m²) | L14: Ecart à la valeur seuil (kgCO2eq/m²)
B15: ='Calculs Bureaux'!N20 -> #N/A
D17: Innovations Déchets | F17: Innovations Usages | I17: Innovations Déplacement
D18: =SUM('Innovation Bureaux'!#REF!) -> #REF! | F18: =IF('ID bâtiment '!D16/'ID bâtiment '!D32<9,10,0) -> #DIV/0!
B24: Exploitation suivie | G24: Ic E+FF | H24: Ic Travaux
B25: Energie/Fluides frigorigènes | F25: BBCA | G25: ='Calculs Bureaux'!N11 -> #N/A | H25: {='Résultats Travaux'!B19:C19} -> #N/A | I25: 0 | J25: =G25-G26 -> #N/A
B26: Ic Energie | C26: ='Calculs Bureaux'!J18 -> #DIV/0! | D26: kgeqCO2/m².an | F26: Projet | G26: ='Calculs Bureaux'!N16 -> #DIV/0! | H26: {='Résultats Travaux'!B18:C18} -> 0 | I26: 0
B27: Majorations RIE/Info | C27: ='Calculs Bureaux'!L11+'Calculs Bureaux'!L13 -> #DIV/0! | D27: kgeqCO2/m².an | F27: Critère | G27: =IF(G26>=G25,"Non validé","Validé") -> #DIV/0! | H27: =IF(H26>H25,"Non validé","Validé") -> #N/A
B28: Ic fluide frigorigènes | C28: ='Calculs Bureaux'!J28 -> #DIV/0! | D28: kgeqCO2/m².an | F28: BBCA Standard Validé | G28: =IF(AND(G27="Validé",H27="Validé"),"Validé",IF(AND(G27="Non Validé",H27="Validé"),"Démarche Engagement","Non conforme")) -> #DIV/0!
B29: Ic E + F | C29: ='Calculs Bureaux'!N16 -> #DIV/0! | D29: kgeqCO2/m².an
F30: Point BBCA | G30: =MIN(20,ROUNDDOWN(-MIN((G26-G25)/0.2,0),0))+'Résultats Travaux'!B21 -> #DIV/0!
B31: Déchets
B32: Ic Déchets | C32: ='Calculs Bureaux'!N43 -> #DIV/0! | D32: kgeqCO2/m².an | F32: Points innovation climat | G32: Nombre de points
F33: Calcul de l'Ic Déplacement | G33: ='Innovation Bureaux'!H9 -> 0
F34: Bonification Intensité d'usages | G34: ='Innovation Bureaux'!E48 -> 0
B35: Usages | F35: Bonification Mobilité Durable | G35: ='Innovation Bureaux'!F28+'Innovation Bureaux'!F31+'Innovation Bureaux'!F34+'Innovation Bureaux'!E23 -> 0
B36: Ic Prestations Déplacements | C36: ='Calculs Bureaux'!N65 -> #DIV/0! | D36: kgeqCO2/m².an | F36: Bonification Gestion des Déchets | G36: ='Innovation Bureaux'!C60 -> #DIV/0!
B37: Ic Intrants | C37: ='Calculs Bureaux'!N80 -> #DIV/0! | D37: kgeqCO2/m².an | F37: Bonification réemploi | G37: ='Innovation Bureaux'!F67 -> 0
B38: Ic Prestations | C38: ='Calculs Bureaux'!N86 -> #DIV/0! | D38: kgeqCO2/m².an | F38: Calcul de l'Ic Restauration | G38: ='Innovation Bureaux'!H39 -> 0
F39: Bonification Stockage Carbone | G39: ='Innovation Bureaux'!H75 -> #DIV/0!
F40: Bonification Sensibilisation | G40: ='Innovation Bureaux'!E53 -> 0
F41: Points innovation climat | G41: =MIN(SUM(G33:H40),15) -> #DIV/0!
B42: Ic Exploitation suivie | C42: =C29+C32+C38 -> #DIV/0! | D42: kgeqCO2/m².an
F43: TOTAL POINTS | G43: =G41+G30 -> #DIV/0!
F44: Niveau BBCA | G44: =IF(G28="Non conforme",G28,IF(AND(G43>=40),"Excellence",IF(AND(G43>=25),"Performance","Standard"))) -> #DIV/0!
B46: Travaux | C46: Total Travaux
B48: Ic PCE | C48: {='Résultats Travaux'!B16:C16} -> 0 | D48: 0
B49: Ic PCE NA | C49: {='Résultats Travaux'!B17:C17} -> 0 | D49: 0
B50: Ic Travaux | C50: {='Résultats Travaux'!B18:C18} -> 0 | D50: 0

Sheet Grille de collecte - Travaux
A1: Grille de collecte - BBCA Exploitation - Inventaire des biens et équipements Cette grille doit permettre en l'absence (ou en complément d'une plateforme de suivi), de réaliser l'inventaire des biens et équipements qui est demandé dans le cadre du BBCA Exploitation | AR1: Lots ACV | AU1: Listing des éléments
AR2: 04: Couverture - Etanchéité - Charpente — Zinguerie | AU2: Equipements de production de chauffage/froid
AR3: 05: Cloisonnement - Plafonds suspendus - Menuiseries intérieures | AU3: Equipement d'émission de chauffage/froid
A4: Lot ACV | B4: Type de produit | C4: Référence produit | D4: Quantité | E4: Unité | F4: Localisation | G4: Année de mise en place | H4: Présence d'un DOE | I4: Durée de vie estimée (issue de DED/FDES/PEP) en années | J4: Caractérisation de l'état | K4: Durée de vie résiduelle (remplir manuellement la cellule si durée exacte connue) | AR4: 06 : Façades et menuiseries extérieures | AU4: Equipement de ventilation
AR5: 07 : Revêtements des sols, murs et plafonds | AU5: Equipements de production/stockage d’ECS (chauffe-eau thermodynamique, électrique, gaz ou chauffe-eau solaire individuel)
K6: =IF(J6="","",VLOOKUP(J6,AR$14:AS$18,2,0)) | AR6: 08 : CVC | AU6: Tour de refroidissement, aéroréfrigérant
K7: =IF(J7="","",VLOOKUP(J7,AR$14:AS$18,2,0)) | AR7: 09 : Installations Sanitaires | AU7: Pompes
K8: =IF(J8="","",VLOOKUP(J8,AR$14:AS$18,2,0)) | AR8: 10 : Réseaux d'énergie (courant fort) | AU8: Vase d’expansion
K9: =IF(J9="","",VLOOKUP(J9,AR$14:AS$18,2,0)) | AR9: 11 : Réseaux de communication (courant faible) | AU9: Terminaux/Emetteurs CVC
K10: =IF(J10="","",VLOOKUP(J10,AR$14:AS$18,2,0)) | AR10: 12 : Appareils élévateurs | AU10: o Toiture terrasse : étanchéité/pare-vapeur/cheminement béton
K11: =IF(J11="","",VLOOKUP(J11,AR$14:AS$18,2,0)) | AR11: 13 : Equipements de production locale d'électricité | AU11: o Toiture en pente : étanchéité/éléments de couverture
K12: =IF(J12="","",VLOOKUP(J12,AR$14:AS$18,2,0)) | AU12: o Portes principales d’accès au bâtiment
K13: =IF(J13="","",VLOOKUP(J13,AR$14:AS$18,2,0)) | AR13: Liste des états | AU13: o Portes de service sur locaux non chauffés
K14: =IF(J14="","",VLOOKUP(J14,AR$14:AS$18,2,0)) | AR14: Parfait état | AS14: 0.9 | AU14: o Portes parties communes et serrurerie
K15: =IF(J15="","",VLOOKUP(J15,AR$14:AS$18,2,0)) | AR15: Bon état | AS15: 0.7 | AU15: o Portes parties privatives (y compris portes palières) et serrurerie
K16: =IF(J16="","",VLOOKUP(J16,AR$14:AS$18,2,0)) | AR16: Etat moyen | AS16: 0.5 | AU16: o Cloisons de distribution (pleines et ou vitrées à distinguer) par niveau
K17: =IF(J17="","",VLOOKUP(J17,AR$14:AS$18,2,0)) | AR17: Etat médiocre | AS17: 0.2 | AU17: o Enduits intérieurs sur les murs
K18: =IF(J18="","",VLOOKUP(J18,AR$14:AS$18,2,0)) | AR18: Hors d'usage | AS18: 0 | AU18: o Enduits intérieurs sur les plafonds
K19: =IF(J19="","",VLOOKUP(J19,AR$14:AS$18,2,0)) | AU19: o Plafonds suspendus y compris système de fixation et remplissage du plénum
K20: =IF(J20="","",VLOOKUP(J20,AR$14:AS$18,2,0)) | AU20: o Faux planchers sur dalles à plots
K21: =IF(J21="","",VLOOKUP(J21,AR$14:AS$18,2,0)) | AU21: o Coffre de volets roulants
K22: =IF(J22="","",VLOOKUP(J22,AR$14:AS$18,2,0)) | AU22: o Garde-corps (distinguer balcons, loggias, toiture)
K23: =IF(J23="","",VLOOKUP(J23,AR$14:AS$18,2,0)) | AU23: o Main courantes
K24: =IF(J24="","",VLOOKUP(J24,AR$14:AS$18,2,0)) | AU24: o Parement de façade
K25: =IF(J25="","",VLOOKUP(J25,AR$14:AS$18,2,0)) | AU25: o Volets roulants ou battants
K26: =IF(J26="","",VLOOKUP(J26,AR$14:AS$18,2,0)) | AU26: o Brise-soleil et/ou stores et/ou rideaux d’occultation
K27: =IF(J27="","",VLOOKUP(J27,AR$14:AS$18,2,0)) | AU27: o Revêtements de sols souples (distinguer parties communes et parties privatives et par type de sol souple)
K28: =IF(J28="","",VLOOKUP(J28,AR$14:AS$18,2,0)) | AU28: o Revêtements de sols durs (distinguer parties communes et parties privatives et par type de sol souple)
K29: =IF(J29="","",VLOOKUP(J29,AR$14:AS$18,2,0)) | AU29: o Faïence (à distinguer par niveau)
K30: =IF(J30="","",VLOOKUP(J30,AR$14:AS$18,2,0)) | AU30: o Plinthes et barre de seuils
... K42: =IF(J42="","",VLOOKUP(J42,AR$14:AS$18,2,0)) | AU42: o Monte-charge
K43: =IF(J43="","",VLOOKUP(J43,AR$14:AS$18,2,0))
K44: =IF(J44="","",VLOOKUP(J44,AR$14:AS$18,2,0))
K45: =IF(J45="","",VLOOKUP(J45,AR$14:AS$18,2,0))
K46: =IF(J46="","",VLOOKUP(J46,AR$14:AS$18,2,0))
K47: =IF(J47="","",VLOOKUP(J47,AR$14:AS$18,2,0))
K48: =IF(J48="","",VLOOKUP(J48,AR$14:AS$18,2,0))
K49: =IF(J49="","",VLOOKUP(J49,AR$14:AS$18,2,0))
K50: =IF(J50="","",VLOOKUP(J50,AR$14:AS$18,2,0))
K51: =IF(J51="","",VLOOKUP(J51,AR$14:AS$18,2,0))
...

Sheet Grille de collecte - Facility M
A1: Grille de collecte - BBCA Exploitation - Facility Management Cette grille a vocation à récupérer des données auprès des prestataires. Elles ne constituent pas une feuille de calcul
A4: Types de prestation | B4: Nombre de déplacements sur le bâtiment par an (jours ouvrés) | C4: Nombre de sites visités lors du déplacement réalisé pour se rendre sur le batiment | D4: km moyens par déplacement ALLER (incluant toute la tournée de visites) | E4: Type de véhicule à selectionner | G4: Types de prestation | H4: Quantité d'intrant utilisée par an (en kg) | L4: Commentaires : Il est demandé de remplir la grille suivante comme suit : - Le type de prestation - Le nombre de déplacement sur le bâtiment par an (ex : pour un mainteneur qui vient une fois par semaine, indiquer 52 jours) - Le nombre de site visités dans la même journée (ex : un employé de ménage qui fait 3 actif dans la journée, renseigner 3) - La distance moyennne parcourue sur le trajet "Aller" (ex : si un employé de ménage fait 5 km pour aller sur l'actif, qu'il fait 10 km pour aller sur un autre actif et qu'ensuite il lui faut 15 km pour rentrer chez lui, on renseignera alors 5+10=15 km) - Le type de véhicule/transport utilisé (à choisir dans la liste déroulante parmi les éléments de la colonne L ) | P4: Type de prestation | Q4: Prestations:
P5: Ménage | Q5: VUL - < 3,5 tonnes - Essence
P6: Maintenance | Q6: VUL - < 3,5 tonnes - GNC
P10: Gardiennage | Q10: VUL - < 3,5 tonnes - GPL
G11: TOTAL quantité produits | H11: =H5+H6+H10 -> 0 | P11: Accueil | Q11: VUL - < 3,5 tonnes - Diesel routier
P12: Prestataires RIE | Q12: Voiture - motorisation essence - 2018
Q13: Voiture - motorisation gazole - 2018
Q14: Voiture - motorisation moyenne - 2018
Q15: Voiture particulière - cœur de gamme - véhicule compact - électrique
Q16: Voiture particulière - cœur de gamme - véhicule compact - Hybride rechargeable, plug in-hybrid, P2/prius
Q17: Voiture particulière - cœur de gamme - véhicule compact - Hybride, mild, diesel
Q18: Voiture particulière - cœur de gamme - véhicule compact - Hybride, mild, essence
Q19: Voiture particulière - cœur de gamme - véhicule compact - Hybride, full, P2
Q20: Moto =< 250 cm3 - mixte - 2018
Q21: Moto > 250 cm3 - mixte - 2018
Q22: Cyclomoteur - mixte - 2018
Q23: Autobus moyen - Agglomération de 100 000 à 250 000 habitants
Q24: Autobus moyen - Agglomération de plus de 250 000 habitants
... Q32: Tramway - 2019 - Ile de France

Sheet Données Bureaux
A2: Exploitation suivie
A4: Energie / Fluides Frigorigènes
B6: Vecteur énergétique | C6: FE Bureaux (kgCO2eq/kWhEF) | D6: FE Résidentiel (kgCO2eq/kWhEF) | F6: Test Garantie d'origine | G6: Vecteur énergétique chauffage | J6: =(J8-$I8)/$I8 -> 0.18564593 | K6: =(K8-$I8)/$I8 -> 0.081699851 | L6: =(L8-$I8)/$I8 -> -0.052631579 | M6: =(M8-$I8)/$I8 -> -0.25582137 | N6: =(N8-$I8)/$I8 -> -0.080359991 | O6: =(O8-$I8)/$I8 -> 0.10790613 | P6: =(P8-$I8)/$I8 -> -0.25582137
B7: Données sur facture : Électricité (hors autoconsommation) tous usages confondus | C7: 0.064 | D7: 0.064 | F7: oui | G7: Gaz | I7: H1a | J7: H1b | K7: H1c | L7: H2a | M7: H2b | N7: H2c | O7: H2d | P7: H3
B8: Données sur facture : Gaz méthane (naturel) issu des réseaux | C8: 0.227 | D8: 0.227 | F8: non | G8: Autre vecteur | H8: EGES E+F Bureaux max | I8: ='Modulation usage'!C15 -> 10.116364 | J8: ='Modulation usage'!D15 -> 11.994425 | K8: ='Modulation usage'!E15 -> 10.942869 | L8: ='Modulation usage'!F15 -> 9.5839234 | M8: ='Modulation usage'!G15 -> 7.5283816 | N8: ='Modulation usage'!H15 -> 9.3034127 | O8: ='Modulation usage'!I15 -> 11.207981 | P8: ='Modulation usage'!J15 -> 7.5283816
B9: Données sur facture : Gaz butane | C9: 0.272 | D9: 0.272 | H9: EGES E+F max résidentiel | I9: 13 | J9: =I9*(1+J6) -> 15.413397 | K9: =I9*(1+K6) -> 14.062098 | L9: =I9*(1+L6) -> 12.315789 | M9: =I9*(1+M6) -> 9.6743222 | N9: =I9*(1+N6) -> 11.95532 | O9: =I9*(1+O6) -> 14.40278 | P9: =I9*(1+P6) -> 9.6743222
B10: Données sur facture : Gaz propane | C10: 0.272 | D10: 0.272 | H10: EGES E+F Bureaux - Gaz | I10: ='Modulation usage'!C16 -> 14 | J10: ='Modulation usage'!D16 -> 16.599043 | K10: ='Modulation usage'!E16 -> 15.143798 | L10: ='Modulation usage'!F16 -> 13.263158 | M10: ='Modulation usage'!G16 -> 10.418501 | N10: ='Modulation usage'!H16 -> 12.87496 | O10: ='Modulation usage'!I16 -> 15.510686 | P10: ='Modulation usage'!J16 -> 10.418501
B11: Données sur facture : Fioul domestique | C11: 0.324 | D11: 0.324 | H11: EGES E+F max Résidentiel - Gaz | I11: 19 | J11: 20 | K11: 18.0 | L11: 18.0 | M11: 18 | N11: 20 | O11: 20 | P11: 17
B12: Données sur facture : Charbon (anthracite) | C12: 0.385 | D12: 0.385 | F12: Valeur de majoration RIE (kgCO2/m²RIE) | J12: Ligne de recherche dans le tableau de seuils E+FF
B13: Données sur facture : Bois, biomasse-Plaquettes d’industrie (10-15 % humidité) | C13: 0.024 | D13: 0.024 | F13: =220*0.064 -> 14.08 | J13: =IF('ID bâtiment '!#REF!="Bureaux",2,3) -> #REF!
B14: Données sur facture : Bois, biomasse-Plaquettes forestières (25 % humidité) | C14: 0.024 | D14: 0.024
B15: Données sur facture : Bois, biomasse-Granulés (pellets) ou briquettes (8 % humidité) | C15: 0.03 | D15: 0.03 | F15: Valeur de majoration Info (kgCO2/m²info)
B16: Données sur facture : Bois, biomasse-Buche (20 % humidité) | C16: 0.03 | D16: 0.03 | F16: =335/0.079*0.064 -> 271.39241
B17: Données sur facture : Autres combustibles fossiles | C17: 0.324 | D17: 0.324
B18: Données sur facture : Réseau de chaleur urbain | C18: ='ID bâtiment '!D24 -> 0 | D18: =C18 -> 0
B19: Données sur facture : Réseau de froid urbain | C19: ='ID bâtiment '!D26 -> 0 | D19: =C19 -> 0
B22: Fluides frigorigènes | C22: PRG à 100 ans AR5
B23: Dioxyde de carbone d'origine fossile | C23: 1
B24: Méthane d'origine fossile | C24: 30
B25: Méthane d'origine biogénique | C25: 28
B26: Protoxyde d'azote | C26: 265
B27: Dioxyde de carbone d'origine biogénique | C27: 1
B28: Hexafluorure de soufre | C28: 23500
B29: Trifluorure d'azote | C29: 16100
B30: R23 | C30: 12400
B31: R32 | C31: 677
B32: R125 | C32: 3170
B33: R134a | C33: 1300
B34: R143a | C34: 4800
... B75: R408a | C75: 3257
A78: Déchets
B80: Type_dec_tert | D80: Type_Pre
B81: Canettes ou capsules alu | D81: 1. Aucune difficulté
B82: Cartons | D82: 2. Raisonnable
B83: DIB | D83: 3. Complexe et/ou chronophage
B84: Palettes | D84: 4. Donnée non disponible
B85: Papiers
B86: Verre
B87: Gobelets et bouteilles en plastique PET | D87: Type_on
B88: Gobelets cartons | D88: Oui
...

Sheet Modulation usage
M1: Différents usage possible | N1: Valeur USE Modulé | O1: Surface associée (m²)
C2: H1a | D2: H1b | E2: H1c | F2: H2a | G2: H2b | H2: H2c | I2: H2d | J2: H3 | M2: Bureaux standards | N2: =I27 -> 50 | O2: 1000
B3: Valeur CVC | C3: 57 | D3: 66 | E3: 62 | F3: 57 | G3: 50 | H3: 56 | I3: 63 | J3: =G3 -> 50 | M3: Open space | N3: =I34 -> 60 | O3: 0
B4: Part CVC sur les 110 kWhEF/m² moyen | C4: =(C3)/110 -> 0.51818182 | D4: =(D3)/110 -> 0.6 | E4: =(E3)/110 -> 0.56363636 | F4: =(F3)/110 -> 0.51818182 | G4: =(G3)/110 -> 0.45454545 | H4: =(H3)/110 -> 0.50909091 | I4: =(I3)/110 -> 0.57272727 | J4: =(J3)/110 -> 0.45454545 | M4: Flex Office | N4: =I41 -> 70 | O4: 0
M5: Espace Co-working | N5: =I48 -> 50 | O5: 0
M6: Salle haute intensité - Salle de marché | N6: =I55 -> 125 | O6: 0
B7: Ecart à H1a CVC | D7: =(D3-$C$3)/$C$3 -> 0.15789474 | E7: =(E3-$C$3)/$C$3 -> 0.087719298 | F7: =(F3-$C$3)/$C$3 -> 0 | G7: =(G3-$C$3)/$C$3 -> -0.12280702 | H7: =(H3-$C$3)/$C$3 -> -0.01754386 | I7: =(I3-$C$3)/$C$3 -> 0.10526316 | J7: =(J3-$C$3)/$C$3 -> -0.12280702 | M7: Salle haute intensité - Centre d'appel | N7: =I62 -> 100 | O7: 0
B8: Ecart pondéré CVC | D8: =D4*D7 -> 0.094736842 | E8: =E4*E7 -> 0.049441786 | F8: =F4*F7 -> 0 | G8: =G4*G7 -> -0.055821372 | H8: =H4*H7 -> -0.0089314195 | I8: =I4*I7 -> 0.060287081 | J8: =J4*J7 -> -0.055821372 | M8: Zone accueil public | N8: =I69 -> 35 | O8: 0
M9: Grande salle de réunion - Auditorium - Amphitéâtre | N9: =I76 -> 5 | O9: 0
B10: Valeur USE restant sur les 110 kWhEF | C10: =110-C3 -> 53 | D10: =110-D3 -> 44 | E10: =110-E3 -> 48 | F10: =110-F3 -> 53 | G10: =110-G3 -> 60 | H10: =110-H3 -> 54 | I10: =110-I3 -> 47 | J10: =110-J3 -> 60 | M10: Centre documentaire | N10: =I83 -> 15 | O10: 0
B11: CALCUL USE DT | C11: =SUMPRODUCT(N2:N10,O2:O10)/SUM(O2:O10) -> 50 | D11: =C11 -> 50 | E11: =D11 -> 50 | F11: =E11 -> 50 | G11: =F11 -> 50 | H11: =G11 -> 50 | I11: =H11 -> 50 | J11: =I11 -> 50 | M11: Open space
B12: Ecart à la valeur USE restant | C12: =(C11-C10)/C10 -> -0.056603774 | D12: =(D11-D10)/D10 -> 0.13636364 | E12: =(E11-E10)/E10 -> 0.041666667 | F12: =(F11-F10)/F10 -> -0.056603774 | G12: =(G11-G10)/G10 -> -0.16666667 | H12: =(H11-H10)/H10 -> -0.074074074 | I12: =(I11-I10)/I10 -> 0.063829787 | J12: =(J11-J10)/J10 -> -0.16666667 | M12: Open space
M13: A partir des déclarations OPERAT, remplir : - les surfaces par usages (plage O2-O10) - les valeurs d'amplitude horaire, de surface par poste, de taux d'ccupation pour chaque usage concerné
C14: H1a | D14: H1b | E14: H1c | F14: H2a | G14: H2b | H14: H2c | I14: H2d | J14: H3
B15: Ic E+f max BUREAUX Valeur Seuil Carbone 2030 CREEM v1 | C15: =10.4*(1+53/110*C12) -> 10.116364 | D15: =$C15*(1+D8+D10/D3*D12) -> 11.994425 | E15: =$C15*(1+E8+E10/E3*E12) -> 10.942869 | F15: =$C15*(1+F8+F10/F3*F12) -> 9.5839234 | G15: =$C15*(1+G8+G10/G3*G12) -> 7.5283816 | H15: =$C15*(1+H8+H10/H3*H12) -> 9.3034127 | I15: =$C15*(1+I8+I10/I3*I12) -> 11.207981 | J15: =$C15*(1+J8+J10/J3*J12) -> 7.5283816
B16: Ic E+f max BUREAUX GAZ Valeur Seuil Carbone 2030 CREEM v1 | C16: 14 | D16: =$C16*(1+D8++D10/D3*D12) -> 16.599043 | E16: =$C16*(1+E8++E10/E3*E12) -> 15.143798 | F16: =$C16*(1+F8++F10/F3*F12) -> 13.263158 | G16: =$C16*(1+G8++G10/G3*G12) -> 10.418501 | H16: =$C16*(1+H8++H10/H3*H12) -> 12.87496 | I16: =$C16*(1+I8++I10/I3*I12) -> 15.510686 | J16: =$C16*(1+J8++J10/J3*J12) -> 10.418501
M17: Open space
A22: Bureaux standards | B22: Composante USE en kWh/m2/an | C22: Valeur à renseigner par l'assujetti | G22: Indicateur d'intensité d'usage étalon
C23: Amplitude horaire annuelle (h ouvrées/an) | F23: 3120 | G23: Densité Temporelle étalon (h ouvrées/an) | J23: 3120
C24: Surface par poste de travail (m2/poste) | F24: 18 | G24: Surface par poste étalon (m2/poste) | J24: 18
C25: Taux d'occupation nominal (%) | F25: 0.7 | G25: Taux d'occupation étalon (%) | J25: 0.7
C27: Valeur USE étalon | E27: 50 | G27: Valeur USE modulé | I27: =ROUND(E27*(0.05+0.95*(F23/J23)*(J24/F24)*(F25/J25)+0.28*(F23-J23)/J23),1) -> 50
A28: Bureaux standards
A29: Open space | B29: Composante USE en kWh/m2/an | C29: Valeur à renseigner par l'assujetti | G29: Indicateur d'intensité d'usage étalon
C30: Amplitude horaire annuelle (h ouvrées/an) | F30: 3120 | G30: Densité Temporelle étalon (h ouvrées/an) | J30: 3120
C31: Surface par poste de travail (m2/poste) | F31: 15 | G31: Surface par poste étalon (m2/poste) | J31: 15
C32: Taux d'occupation nominal (%) | F32: 0.7 | G32: Taux d'occupation étalon (%) | J32: 0.7
C34: Valeur USE étalon | E34: 60 | G34: Valeur USE modulé | I34: =ROUND(E34*(0.05+0.95*(F32/J32)*(J31/F31)*(F30/J30)+(0.28*(F30-J30))/J30),1) -> 60
A36: Flex Office | B36: Composante USE en kWh/m2/an | C36: Valeur à renseigner par l'assujetti | G36: Indicateur d'intensité d'usage étalon
C37: Amplitude horaire annuelle (h ouvrées/an) | F37: 3120 | G37: Densité Temporelle étalon (h ouvrées/an) | J37: 3120
C38: Surface par poste de travail (m2/poste) | F38: 15 | G38: Surface par poste étalon (m2/poste) | J38: 15
C39: Taux d'occupation nominal (%) | F39: 0.85 | G39: Taux d'occupation étalon (%) | J39: 0.85
C41: Valeur USE étalon | E41: 70 | G41: Valeur USE modulé | I41: =ROUND(E41*(0.05+0.95*(F37/J37)*(J38/F38)*(F39/J39)+0.28*(F37-J37)/J37),1) -> 70
A42: Flex Office
A43: Espace Co-working | B43: Composante USE en kWh/m2/an | C43: Valeur à renseigner par l'assujetti | G43: Indicateur d'intensité d'usage étalon
C44: Amplitude horaire annuelle (h ouvrées/an) | F44: 3120 | G44: Densité Temporelle étalon (h ouvrées/an) | J44: 3120
C45: Surface par poste de travail (m2/poste) | F45: 10 | G45: Surface par poste étalon (m2/poste) | J45: 10
C46: Taux d'occupation nominal (%) | F46: 0.7 | G46: Taux d'occupation étalon (%) | J46: 0.7
C48: Valeur USE étalon | E48: 50 | G48: Valeur USE modulé | I48: =ROUND(E48*(0.05+0.95*(F44/J44)*(J45/F45)*(F46/J46)+0.28*(F44-J44)/J44),1) -> 50
